BEGIN:VCALENDAR
VERSION:2.0
PRODID:-//Destin, FL | Big Kahuna&#039;s Park - ECPv6.15.19//NONSGML v1.0//EN
CALSCALE:GREGORIAN
METHOD:PUBLISH
X-WR-CALNAME:Destin, FL | Big Kahuna&#039;s Park
X-ORIGINAL-URL:https://bigkahunas.com/destin
X-WR-CALDESC:Events for Destin, FL | Big Kahuna&#039;s Park
REFRESH-INTERVAL;VALUE=DURATION:PT1H
X-Robots-Tag:noindex
X-PUBLISHED-TTL:PT1H
BEGIN:VTIMEZONE
TZID:America/Chicago
BEGIN:DAYLIGHT
TZOFFSETFROM:-0600
TZOFFSETTO:-0500
TZNAME:CDT
DTSTART:20240310T080000
END:DAYLIGHT
BEGIN:STANDARD
TZOFFSETFROM:-0500
TZOFFSETTO:-0600
TZNAME:CST
DTSTART:20241103T070000
END:STANDARD
BEGIN:DAYLIGHT
TZOFFSETFROM:-0600
TZOFFSETTO:-0500
TZNAME:CDT
DTSTART:20250309T080000
END:DAYLIGHT
BEGIN:STANDARD
TZOFFSETFROM:-0500
TZOFFSETTO:-0600
TZNAME:CST
DTSTART:20251102T070000
END:STANDARD
BEGIN:DAYLIGHT
TZOFFSETFROM:-0600
TZOFFSETTO:-0500
TZNAME:CDT
DTSTART:20260308T080000
END:DAYLIGHT
BEGIN:STANDARD
TZOFFSETFROM:-0500
TZOFFSETTO:-0600
TZNAME:CST
DTSTART:20261101T070000
END:STANDARD
END:VTIMEZONE
BEGIN:VEVENT
DTSTART;TZID=America/Chicago:20250920T100000
DTEND;TZID=America/Chicago:20250920T170000
DTSTAMP:20260421T121628
CREATED:20241010T005848Z
LAST-MODIFIED:20241010T005848Z
UID:10001739-1758362400-1758387600@bigkahunas.com
SUMMARY:Water Park Open
DESCRIPTION:
URL:https://bigkahunas.com/destin/event/water-park-open-244/
CATEGORIES:Park Hours
END:VEVENT
BEGIN:VEVENT
DTSTART;TZID=America/Chicago:20250920T110000
DTEND;TZID=America/Chicago:20250920T170000
DTSTAMP:20260421T121628
CREATED:20250912T150037Z
LAST-MODIFIED:20250912T161256Z
UID:10001861-1758366000-1758387600@bigkahunas.com
SUMMARY:Season Passholder Appreciation Day
DESCRIPTION:Celebrate with Us!\nA Special THANK YOU for our Season Passholders with exclusive entertainment for you! \nSeason Passholders will enjoy access to:\n\nFace Paint & Glitter Tattoos\nHula & Fire Dancers\nExclusive Hula Lessons\nLive DJ\nFoam Cannon\n\nBuy your tickets or reserve your Season Passes to enjoy events at Big Kahuna’s all summer long!
URL:https://bigkahunas.com/destin/event/season-passholder-appreciation-day-2-2/
CATEGORIES:2025 Events
ATTACH;FMTTYPE=image/webp:https://bigkahunas.com/destin/wp-content/uploads/sites/2/2025/07/Shipwreck-event-covers-09.webp
END:VEVENT
BEGIN:VEVENT
DTSTART;TZID=America/Chicago:20250920T120000
DTEND;TZID=America/Chicago:20250920T220000
DTSTAMP:20260421T121628
CREATED:20241009T010928Z
LAST-MODIFIED:20250310T141202Z
UID:10001376-1758369600-1758405600@bigkahunas.com
SUMMARY:Adventure Park Open
DESCRIPTION:
URL:https://bigkahunas.com/destin/event/adventure-park-open-379/
CATEGORIES:Adventure Park,Park Hours
END:VEVENT
END:VCALENDAR