BEGIN:VCALENDAR
VERSION:2.0
PRODID:-//Destin, FL | Big Kahuna&#039;s Park - ECPv6.15.19//NONSGML v1.0//EN
CALSCALE:GREGORIAN
METHOD:PUBLISH
X-WR-CALNAME:Destin, FL | Big Kahuna&#039;s Park
X-ORIGINAL-URL:https://bigkahunas.com/destin
X-WR-CALDESC:Events for Destin, FL | Big Kahuna&#039;s Park
REFRESH-INTERVAL;VALUE=DURATION:PT1H
X-Robots-Tag:noindex
X-PUBLISHED-TTL:PT1H
BEGIN:VTIMEZONE
TZID:America/Chicago
BEGIN:DAYLIGHT
TZOFFSETFROM:-0600
TZOFFSETTO:-0500
TZNAME:CDT
DTSTART:20240310T080000
END:DAYLIGHT
BEGIN:STANDARD
TZOFFSETFROM:-0500
TZOFFSETTO:-0600
TZNAME:CST
DTSTART:20241103T070000
END:STANDARD
BEGIN:DAYLIGHT
TZOFFSETFROM:-0600
TZOFFSETTO:-0500
TZNAME:CDT
DTSTART:20250309T080000
END:DAYLIGHT
BEGIN:STANDARD
TZOFFSETFROM:-0500
TZOFFSETTO:-0600
TZNAME:CST
DTSTART:20251102T070000
END:STANDARD
BEGIN:DAYLIGHT
TZOFFSETFROM:-0600
TZOFFSETTO:-0500
TZNAME:CDT
DTSTART:20260308T080000
END:DAYLIGHT
BEGIN:STANDARD
TZOFFSETFROM:-0500
TZOFFSETTO:-0600
TZNAME:CST
DTSTART:20261101T070000
END:STANDARD
END:VTIMEZONE
BEGIN:VEVENT
DTSTART;TZID=America/Chicago:20250901T120000
DTEND;TZID=America/Chicago:20250901T220000
DTSTAMP:20260421T174313
CREATED:20241009T010323Z
LAST-MODIFIED:20250310T141154Z
UID:10001357-1756728000-1756764000@bigkahunas.com
SUMMARY:Adventure Park Open
DESCRIPTION:
URL:https://bigkahunas.com/destin/event/adventure-park-open-368/
CATEGORIES:Adventure Park,Park Hours
END:VEVENT
BEGIN:VEVENT
DTSTART;VALUE=DATE:20250902
DTEND;VALUE=DATE:20250903
DTSTAMP:20260421T174313
CREATED:20241009T010325Z
LAST-MODIFIED:20250310T135654Z
UID:10001358-1756771200-1756857599@bigkahunas.com
SUMMARY:Adventure Park Closed
DESCRIPTION:
URL:https://bigkahunas.com/destin/event/adventure-park-closed-243/
CATEGORIES:Adventure Park,Park Hours
END:VEVENT
BEGIN:VEVENT
DTSTART;VALUE=DATE:20250903
DTEND;VALUE=DATE:20250904
DTSTAMP:20260421T174313
CREATED:20241009T010326Z
LAST-MODIFIED:20250310T135655Z
UID:10001359-1756857600-1756943999@bigkahunas.com
SUMMARY:Adventure Park Closed
DESCRIPTION:
URL:https://bigkahunas.com/destin/event/adventure-park-closed-244/
CATEGORIES:Adventure Park,Park Hours
END:VEVENT
BEGIN:VEVENT
DTSTART;TZID=America/Chicago:20250904T150000
DTEND;TZID=America/Chicago:20250904T220000
DTSTAMP:20260421T174313
CREATED:20241009T010327Z
LAST-MODIFIED:20250310T141155Z
UID:10001360-1756998000-1757023200@bigkahunas.com
SUMMARY:Adventure Park Open
DESCRIPTION:
URL:https://bigkahunas.com/destin/event/adventure-park-open-369/
CATEGORIES:Adventure Park,Park Hours
END:VEVENT
BEGIN:VEVENT
DTSTART;TZID=America/Chicago:20250905T150000
DTEND;TZID=America/Chicago:20250905T220000
DTSTAMP:20260421T174313
CREATED:20241009T010328Z
LAST-MODIFIED:20250310T141156Z
UID:10001361-1757084400-1757109600@bigkahunas.com
SUMMARY:Adventure Park Open
DESCRIPTION:
URL:https://bigkahunas.com/destin/event/adventure-park-open-370/
CATEGORIES:Adventure Park,Park Hours
END:VEVENT
BEGIN:VEVENT
DTSTART;TZID=America/Chicago:20250906T120000
DTEND;TZID=America/Chicago:20250906T220000
DTSTAMP:20260421T174313
CREATED:20241009T010523Z
LAST-MODIFIED:20250310T141156Z
UID:10001362-1757160000-1757196000@bigkahunas.com
SUMMARY:Adventure Park Open
DESCRIPTION:
URL:https://bigkahunas.com/destin/event/adventure-park-open-371/
CATEGORIES:Adventure Park,Park Hours
END:VEVENT
BEGIN:VEVENT
DTSTART;TZID=America/Chicago:20250907T120000
DTEND;TZID=America/Chicago:20250907T220000
DTSTAMP:20260421T174313
CREATED:20241009T010524Z
LAST-MODIFIED:20250310T141157Z
UID:10001363-1757246400-1757282400@bigkahunas.com
SUMMARY:Adventure Park Open
DESCRIPTION:
URL:https://bigkahunas.com/destin/event/adventure-park-open-372/
CATEGORIES:Adventure Park,Park Hours
END:VEVENT
BEGIN:VEVENT
DTSTART;VALUE=DATE:20250908
DTEND;VALUE=DATE:20250909
DTSTAMP:20260421T174313
CREATED:20241009T010525Z
LAST-MODIFIED:20250310T135656Z
UID:10001364-1757289600-1757375999@bigkahunas.com
SUMMARY:Adventure Park Closed
DESCRIPTION:
URL:https://bigkahunas.com/destin/event/adventure-park-closed-245/
CATEGORIES:Adventure Park,Park Hours
END:VEVENT
BEGIN:VEVENT
DTSTART;VALUE=DATE:20250909
DTEND;VALUE=DATE:20250910
DTSTAMP:20260421T174313
CREATED:20241009T010526Z
LAST-MODIFIED:20250310T135657Z
UID:10001365-1757376000-1757462399@bigkahunas.com
SUMMARY:Adventure Park Closed
DESCRIPTION:
URL:https://bigkahunas.com/destin/event/adventure-park-closed-246/
CATEGORIES:Adventure Park,Park Hours
END:VEVENT
BEGIN:VEVENT
DTSTART;VALUE=DATE:20250910
DTEND;VALUE=DATE:20250911
DTSTAMP:20260421T174313
CREATED:20241009T010528Z
LAST-MODIFIED:20250310T135657Z
UID:10001366-1757462400-1757548799@bigkahunas.com
SUMMARY:Adventure Park Closed
DESCRIPTION:
URL:https://bigkahunas.com/destin/event/adventure-park-closed-247/
CATEGORIES:Adventure Park,Park Hours
END:VEVENT
BEGIN:VEVENT
DTSTART;TZID=America/Chicago:20250911T150000
DTEND;TZID=America/Chicago:20250911T220000
DTSTAMP:20260421T174313
CREATED:20241009T010723Z
LAST-MODIFIED:20250310T141158Z
UID:10001367-1757602800-1757628000@bigkahunas.com
SUMMARY:Adventure Park Open
DESCRIPTION:
URL:https://bigkahunas.com/destin/event/adventure-park-open-373/
CATEGORIES:Adventure Park,Park Hours
END:VEVENT
BEGIN:VEVENT
DTSTART;TZID=America/Chicago:20250912T150000
DTEND;TZID=America/Chicago:20250912T220000
DTSTAMP:20260421T174313
CREATED:20241009T010724Z
LAST-MODIFIED:20250310T141158Z
UID:10001368-1757689200-1757714400@bigkahunas.com
SUMMARY:Adventure Park Open
DESCRIPTION:
URL:https://bigkahunas.com/destin/event/adventure-park-open-374/
CATEGORIES:Adventure Park,Park Hours
END:VEVENT
BEGIN:VEVENT
DTSTART;TZID=America/Chicago:20250913T120000
DTEND;TZID=America/Chicago:20250913T220000
DTSTAMP:20260421T174313
CREATED:20241009T010725Z
LAST-MODIFIED:20250310T141159Z
UID:10001369-1757764800-1757800800@bigkahunas.com
SUMMARY:Adventure Park Open
DESCRIPTION:
URL:https://bigkahunas.com/destin/event/adventure-park-open-375/
CATEGORIES:Adventure Park,Park Hours
END:VEVENT
BEGIN:VEVENT
DTSTART;TZID=America/Chicago:20250914T120000
DTEND;TZID=America/Chicago:20250914T220000
DTSTAMP:20260421T174313
CREATED:20241009T010726Z
LAST-MODIFIED:20250310T141159Z
UID:10001370-1757851200-1757887200@bigkahunas.com
SUMMARY:Adventure Park Open
DESCRIPTION:
URL:https://bigkahunas.com/destin/event/adventure-park-open-376/
CATEGORIES:Adventure Park,Park Hours
END:VEVENT
BEGIN:VEVENT
DTSTART;VALUE=DATE:20250915
DTEND;VALUE=DATE:20250916
DTSTAMP:20260421T174313
CREATED:20241009T010727Z
LAST-MODIFIED:20250310T135658Z
UID:10001371-1757894400-1757980799@bigkahunas.com
SUMMARY:Adventure Park Closed
DESCRIPTION:
URL:https://bigkahunas.com/destin/event/adventure-park-closed-248/
CATEGORIES:Adventure Park,Park Hours
END:VEVENT
BEGIN:VEVENT
DTSTART;VALUE=DATE:20250916
DTEND;VALUE=DATE:20250917
DTSTAMP:20260421T174313
CREATED:20241009T010923Z
LAST-MODIFIED:20250310T135659Z
UID:10001372-1757980800-1758067199@bigkahunas.com
SUMMARY:Adventure Park Closed
DESCRIPTION:
URL:https://bigkahunas.com/destin/event/adventure-park-closed-249/
CATEGORIES:Adventure Park,Park Hours
END:VEVENT
BEGIN:VEVENT
DTSTART;VALUE=DATE:20250917
DTEND;VALUE=DATE:20250918
DTSTAMP:20260421T174313
CREATED:20241009T010925Z
LAST-MODIFIED:20250310T135659Z
UID:10001373-1758067200-1758153599@bigkahunas.com
SUMMARY:Adventure Park Closed
DESCRIPTION:
URL:https://bigkahunas.com/destin/event/adventure-park-closed-250/
CATEGORIES:Adventure Park,Park Hours
END:VEVENT
BEGIN:VEVENT
DTSTART;TZID=America/Chicago:20250918T150000
DTEND;TZID=America/Chicago:20250918T220000
DTSTAMP:20260421T174313
CREATED:20241009T010926Z
LAST-MODIFIED:20250310T141200Z
UID:10001374-1758207600-1758232800@bigkahunas.com
SUMMARY:Adventure Park Open
DESCRIPTION:
URL:https://bigkahunas.com/destin/event/adventure-park-open-377/
CATEGORIES:Adventure Park,Park Hours
END:VEVENT
BEGIN:VEVENT
DTSTART;TZID=America/Chicago:20250919T150000
DTEND;TZID=America/Chicago:20250919T220000
DTSTAMP:20260421T174313
CREATED:20241009T010927Z
LAST-MODIFIED:20250310T141201Z
UID:10001375-1758294000-1758319200@bigkahunas.com
SUMMARY:Adventure Park Open
DESCRIPTION:
URL:https://bigkahunas.com/destin/event/adventure-park-open-378/
CATEGORIES:Adventure Park,Park Hours
END:VEVENT
BEGIN:VEVENT
DTSTART;TZID=America/Chicago:20250920T120000
DTEND;TZID=America/Chicago:20250920T220000
DTSTAMP:20260421T174313
CREATED:20241009T010928Z
LAST-MODIFIED:20250310T141202Z
UID:10001376-1758369600-1758405600@bigkahunas.com
SUMMARY:Adventure Park Open
DESCRIPTION:
URL:https://bigkahunas.com/destin/event/adventure-park-open-379/
CATEGORIES:Adventure Park,Park Hours
END:VEVENT
BEGIN:VEVENT
DTSTART;TZID=America/Chicago:20250921T120000
DTEND;TZID=America/Chicago:20250921T220000
DTSTAMP:20260421T174313
CREATED:20241009T011123Z
LAST-MODIFIED:20250310T141202Z
UID:10001377-1758456000-1758492000@bigkahunas.com
SUMMARY:Adventure Park Open
DESCRIPTION:
URL:https://bigkahunas.com/destin/event/adventure-park-open-380/
CATEGORIES:Adventure Park,Park Hours
END:VEVENT
BEGIN:VEVENT
DTSTART;VALUE=DATE:20250922
DTEND;VALUE=DATE:20250923
DTSTAMP:20260421T174313
CREATED:20241009T011124Z
LAST-MODIFIED:20250310T135700Z
UID:10001378-1758499200-1758585599@bigkahunas.com
SUMMARY:Adventure Park Closed
DESCRIPTION:
URL:https://bigkahunas.com/destin/event/adventure-park-closed-251/
CATEGORIES:Adventure Park,Park Hours
END:VEVENT
BEGIN:VEVENT
DTSTART;VALUE=DATE:20250923
DTEND;VALUE=DATE:20250924
DTSTAMP:20260421T174313
CREATED:20241009T011125Z
LAST-MODIFIED:20250310T135701Z
UID:10001379-1758585600-1758671999@bigkahunas.com
SUMMARY:Adventure Park Closed
DESCRIPTION:
URL:https://bigkahunas.com/destin/event/adventure-park-closed-252/
CATEGORIES:Adventure Park,Park Hours
END:VEVENT
BEGIN:VEVENT
DTSTART;VALUE=DATE:20250924
DTEND;VALUE=DATE:20250925
DTSTAMP:20260421T174313
CREATED:20241009T011127Z
LAST-MODIFIED:20250310T135702Z
UID:10001380-1758672000-1758758399@bigkahunas.com
SUMMARY:Adventure Park Closed
DESCRIPTION:
URL:https://bigkahunas.com/destin/event/adventure-park-closed-253/
CATEGORIES:Adventure Park,Park Hours
END:VEVENT
BEGIN:VEVENT
DTSTART;VALUE=DATE:20250925
DTEND;VALUE=DATE:20250926
DTSTAMP:20260421T174313
CREATED:20241009T011128Z
LAST-MODIFIED:20250310T135702Z
UID:10001381-1758758400-1758844799@bigkahunas.com
SUMMARY:Adventure Park Closed
DESCRIPTION:
URL:https://bigkahunas.com/destin/event/adventure-park-closed-254/
CATEGORIES:Adventure Park,Park Hours
END:VEVENT
BEGIN:VEVENT
DTSTART;VALUE=DATE:20250926
DTEND;VALUE=DATE:20250927
DTSTAMP:20260421T174313
CREATED:20241009T011325Z
LAST-MODIFIED:20250310T135703Z
UID:10001382-1758844800-1758931199@bigkahunas.com
SUMMARY:Adventure Park Closed
DESCRIPTION:
URL:https://bigkahunas.com/destin/event/adventure-park-closed-255/
CATEGORIES:Adventure Park,Park Hours
END:VEVENT
BEGIN:VEVENT
DTSTART;VALUE=DATE:20250927
DTEND;VALUE=DATE:20250928
DTSTAMP:20260421T174313
CREATED:20241009T011326Z
LAST-MODIFIED:20250310T135704Z
UID:10001383-1758931200-1759017599@bigkahunas.com
SUMMARY:Adventure Park Closed
DESCRIPTION:
URL:https://bigkahunas.com/destin/event/adventure-park-closed-256/
CATEGORIES:Adventure Park,Park Hours
END:VEVENT
BEGIN:VEVENT
DTSTART;VALUE=DATE:20250928
DTEND;VALUE=DATE:20250929
DTSTAMP:20260421T174313
CREATED:20241009T011327Z
LAST-MODIFIED:20250310T135704Z
UID:10001384-1759017600-1759103999@bigkahunas.com
SUMMARY:Adventure Park Closed
DESCRIPTION:
URL:https://bigkahunas.com/destin/event/adventure-park-closed-257/
CATEGORIES:Adventure Park,Park Hours
END:VEVENT
BEGIN:VEVENT
DTSTART;VALUE=DATE:20250929
DTEND;VALUE=DATE:20250930
DTSTAMP:20260421T174313
CREATED:20241009T011328Z
LAST-MODIFIED:20250310T135705Z
UID:10001385-1759104000-1759190399@bigkahunas.com
SUMMARY:Adventure Park Closed
DESCRIPTION:
URL:https://bigkahunas.com/destin/event/adventure-park-closed-258/
CATEGORIES:Adventure Park,Park Hours
END:VEVENT
BEGIN:VEVENT
DTSTART;VALUE=DATE:20250930
DTEND;VALUE=DATE:20251001
DTSTAMP:20260421T174313
CREATED:20241009T011328Z
LAST-MODIFIED:20250310T135706Z
UID:10001386-1759190400-1759276799@bigkahunas.com
SUMMARY:Adventure Park Closed
DESCRIPTION:
URL:https://bigkahunas.com/destin/event/adventure-park-closed-259/
CATEGORIES:Adventure Park,Park Hours
END:VEVENT
END:VCALENDAR