BEGIN:VCALENDAR
VERSION:2.0
PRODID:-//Destin, FL | Big Kahuna&#039;s Park - ECPv6.15.19//NONSGML v1.0//EN
CALSCALE:GREGORIAN
METHOD:PUBLISH
X-WR-CALNAME:Destin, FL | Big Kahuna&#039;s Park
X-ORIGINAL-URL:https://bigkahunas.com/destin
X-WR-CALDESC:Events for Destin, FL | Big Kahuna&#039;s Park
REFRESH-INTERVAL;VALUE=DURATION:PT1H
X-Robots-Tag:noindex
X-PUBLISHED-TTL:PT1H
BEGIN:VTIMEZONE
TZID:America/Chicago
BEGIN:DAYLIGHT
TZOFFSETFROM:-0600
TZOFFSETTO:-0500
TZNAME:CDT
DTSTART:20250309T080000
END:DAYLIGHT
BEGIN:STANDARD
TZOFFSETFROM:-0500
TZOFFSETTO:-0600
TZNAME:CST
DTSTART:20251102T070000
END:STANDARD
BEGIN:DAYLIGHT
TZOFFSETFROM:-0600
TZOFFSETTO:-0500
TZNAME:CDT
DTSTART:20260308T080000
END:DAYLIGHT
BEGIN:STANDARD
TZOFFSETFROM:-0500
TZOFFSETTO:-0600
TZNAME:CST
DTSTART:20261101T070000
END:STANDARD
BEGIN:DAYLIGHT
TZOFFSETFROM:-0600
TZOFFSETTO:-0500
TZNAME:CDT
DTSTART:20270314T080000
END:DAYLIGHT
BEGIN:STANDARD
TZOFFSETFROM:-0500
TZOFFSETTO:-0600
TZNAME:CST
DTSTART:20271107T070000
END:STANDARD
END:VTIMEZONE
BEGIN:VEVENT
DTSTART;TZID=America/Chicago:20260605T140000
DTEND;TZID=America/Chicago:20260605T170000
DTSTAMP:20260422T052920
CREATED:20251116T235755Z
LAST-MODIFIED:20260115T233256Z
UID:10002269-1780668000-1780678800@bigkahunas.com
SUMMARY:Foam Zone Friday
DESCRIPTION:Every Friday at Big Kahuna’s it’s time to dance\, splash\, and soak up the sun with our live DJ and a foam cannon! Join us for a blast of foam fun during Foam Zone every Friday at Big Kahuna’s Waterpark. \n\nLive DJ\nFoam Party\n\nBuy your tickets or reserve your Season Passes to enjoy events at Big Kahuna’s all summer long!
URL:https://bigkahunas.com/destin/event/foam-zone-friday-2/2026-06-05/
CATEGORIES:2026 Events
ATTACH;FMTTYPE=image/webp:https://bigkahunas.com/destin/wp-content/uploads/sites/2/2025/11/Waterpark-Summer-Event-Thumbnails-08.webp
END:VEVENT
BEGIN:VEVENT
DTSTART;TZID=America/Chicago:20260612T140000
DTEND;TZID=America/Chicago:20260612T170000
DTSTAMP:20260422T052920
CREATED:20251116T235755Z
LAST-MODIFIED:20260115T233256Z
UID:10002270-1781272800-1781283600@bigkahunas.com
SUMMARY:Foam Zone Friday
DESCRIPTION:Every Friday at Big Kahuna’s it’s time to dance\, splash\, and soak up the sun with our live DJ and a foam cannon! Join us for a blast of foam fun during Foam Zone every Friday at Big Kahuna’s Waterpark. \n\nLive DJ\nFoam Party\n\nBuy your tickets or reserve your Season Passes to enjoy events at Big Kahuna’s all summer long!
URL:https://bigkahunas.com/destin/event/foam-zone-friday-2/2026-06-12/
CATEGORIES:2026 Events
ATTACH;FMTTYPE=image/webp:https://bigkahunas.com/destin/wp-content/uploads/sites/2/2025/11/Waterpark-Summer-Event-Thumbnails-08.webp
END:VEVENT
BEGIN:VEVENT
DTSTART;TZID=America/Chicago:20260619T140000
DTEND;TZID=America/Chicago:20260619T170000
DTSTAMP:20260422T052920
CREATED:20251116T235755Z
LAST-MODIFIED:20260115T233256Z
UID:10002271-1781877600-1781888400@bigkahunas.com
SUMMARY:Foam Zone Friday
DESCRIPTION:Every Friday at Big Kahuna’s it’s time to dance\, splash\, and soak up the sun with our live DJ and a foam cannon! Join us for a blast of foam fun during Foam Zone every Friday at Big Kahuna’s Waterpark. \n\nLive DJ\nFoam Party\n\nBuy your tickets or reserve your Season Passes to enjoy events at Big Kahuna’s all summer long!
URL:https://bigkahunas.com/destin/event/foam-zone-friday-2/2026-06-19/
CATEGORIES:2026 Events
ATTACH;FMTTYPE=image/webp:https://bigkahunas.com/destin/wp-content/uploads/sites/2/2025/11/Waterpark-Summer-Event-Thumbnails-08.webp
END:VEVENT
BEGIN:VEVENT
DTSTART;TZID=America/Chicago:20260626T140000
DTEND;TZID=America/Chicago:20260626T170000
DTSTAMP:20260422T052920
CREATED:20251116T235755Z
LAST-MODIFIED:20260115T233256Z
UID:10002272-1782482400-1782493200@bigkahunas.com
SUMMARY:Foam Zone Friday
DESCRIPTION:Every Friday at Big Kahuna’s it’s time to dance\, splash\, and soak up the sun with our live DJ and a foam cannon! Join us for a blast of foam fun during Foam Zone every Friday at Big Kahuna’s Waterpark. \n\nLive DJ\nFoam Party\n\nBuy your tickets or reserve your Season Passes to enjoy events at Big Kahuna’s all summer long!
URL:https://bigkahunas.com/destin/event/foam-zone-friday-2/2026-06-26/
CATEGORIES:2026 Events
ATTACH;FMTTYPE=image/webp:https://bigkahunas.com/destin/wp-content/uploads/sites/2/2025/11/Waterpark-Summer-Event-Thumbnails-08.webp
END:VEVENT
BEGIN:VEVENT
DTSTART;TZID=America/Chicago:20260710T140000
DTEND;TZID=America/Chicago:20260710T170000
DTSTAMP:20260422T052920
CREATED:20251116T235755Z
LAST-MODIFIED:20260115T233256Z
UID:10002274-1783692000-1783702800@bigkahunas.com
SUMMARY:Foam Zone Friday
DESCRIPTION:Every Friday at Big Kahuna’s it’s time to dance\, splash\, and soak up the sun with our live DJ and a foam cannon! Join us for a blast of foam fun during Foam Zone every Friday at Big Kahuna’s Waterpark. \n\nLive DJ\nFoam Party\n\nBuy your tickets or reserve your Season Passes to enjoy events at Big Kahuna’s all summer long!
URL:https://bigkahunas.com/destin/event/foam-zone-friday-2/2026-07-10/
CATEGORIES:2026 Events
ATTACH;FMTTYPE=image/webp:https://bigkahunas.com/destin/wp-content/uploads/sites/2/2025/11/Waterpark-Summer-Event-Thumbnails-08.webp
END:VEVENT
BEGIN:VEVENT
DTSTART;TZID=America/Chicago:20260717T140000
DTEND;TZID=America/Chicago:20260717T170000
DTSTAMP:20260422T052920
CREATED:20251116T235755Z
LAST-MODIFIED:20260115T233256Z
UID:10002275-1784296800-1784307600@bigkahunas.com
SUMMARY:Foam Zone Friday
DESCRIPTION:Every Friday at Big Kahuna’s it’s time to dance\, splash\, and soak up the sun with our live DJ and a foam cannon! Join us for a blast of foam fun during Foam Zone every Friday at Big Kahuna’s Waterpark. \n\nLive DJ\nFoam Party\n\nBuy your tickets or reserve your Season Passes to enjoy events at Big Kahuna’s all summer long!
URL:https://bigkahunas.com/destin/event/foam-zone-friday-2/2026-07-17/
CATEGORIES:2026 Events
ATTACH;FMTTYPE=image/webp:https://bigkahunas.com/destin/wp-content/uploads/sites/2/2025/11/Waterpark-Summer-Event-Thumbnails-08.webp
END:VEVENT
BEGIN:VEVENT
DTSTART;TZID=America/Chicago:20260724T140000
DTEND;TZID=America/Chicago:20260724T170000
DTSTAMP:20260422T052920
CREATED:20251116T235755Z
LAST-MODIFIED:20260115T233256Z
UID:10002276-1784901600-1784912400@bigkahunas.com
SUMMARY:Foam Zone Friday
DESCRIPTION:Every Friday at Big Kahuna’s it’s time to dance\, splash\, and soak up the sun with our live DJ and a foam cannon! Join us for a blast of foam fun during Foam Zone every Friday at Big Kahuna’s Waterpark. \n\nLive DJ\nFoam Party\n\nBuy your tickets or reserve your Season Passes to enjoy events at Big Kahuna’s all summer long!
URL:https://bigkahunas.com/destin/event/foam-zone-friday-2/2026-07-24/
CATEGORIES:2026 Events
ATTACH;FMTTYPE=image/webp:https://bigkahunas.com/destin/wp-content/uploads/sites/2/2025/11/Waterpark-Summer-Event-Thumbnails-08.webp
END:VEVENT
BEGIN:VEVENT
DTSTART;TZID=America/Chicago:20260731T140000
DTEND;TZID=America/Chicago:20260731T170000
DTSTAMP:20260422T052920
CREATED:20251116T235755Z
LAST-MODIFIED:20260115T233256Z
UID:10002277-1785506400-1785517200@bigkahunas.com
SUMMARY:Foam Zone Friday
DESCRIPTION:Every Friday at Big Kahuna’s it’s time to dance\, splash\, and soak up the sun with our live DJ and a foam cannon! Join us for a blast of foam fun during Foam Zone every Friday at Big Kahuna’s Waterpark. \n\nLive DJ\nFoam Party\n\nBuy your tickets or reserve your Season Passes to enjoy events at Big Kahuna’s all summer long!
URL:https://bigkahunas.com/destin/event/foam-zone-friday-2/2026-07-31/
CATEGORIES:2026 Events
ATTACH;FMTTYPE=image/webp:https://bigkahunas.com/destin/wp-content/uploads/sites/2/2025/11/Waterpark-Summer-Event-Thumbnails-08.webp
END:VEVENT
BEGIN:VEVENT
DTSTART;TZID=America/Chicago:20260807T140000
DTEND;TZID=America/Chicago:20260807T170000
DTSTAMP:20260422T052920
CREATED:20251116T235755Z
LAST-MODIFIED:20260115T233256Z
UID:10002278-1786111200-1786122000@bigkahunas.com
SUMMARY:Foam Zone Friday
DESCRIPTION:Every Friday at Big Kahuna’s it’s time to dance\, splash\, and soak up the sun with our live DJ and a foam cannon! Join us for a blast of foam fun during Foam Zone every Friday at Big Kahuna’s Waterpark. \n\nLive DJ\nFoam Party\n\nBuy your tickets or reserve your Season Passes to enjoy events at Big Kahuna’s all summer long!
URL:https://bigkahunas.com/destin/event/foam-zone-friday-2/2026-08-07/
CATEGORIES:2026 Events
ATTACH;FMTTYPE=image/webp:https://bigkahunas.com/destin/wp-content/uploads/sites/2/2025/11/Waterpark-Summer-Event-Thumbnails-08.webp
END:VEVENT
BEGIN:VEVENT
DTSTART;TZID=America/Chicago:20260814T140000
DTEND;TZID=America/Chicago:20260814T170000
DTSTAMP:20260422T052920
CREATED:20251116T235755Z
LAST-MODIFIED:20260115T233256Z
UID:10002279-1786716000-1786726800@bigkahunas.com
SUMMARY:Foam Zone Friday
DESCRIPTION:Every Friday at Big Kahuna’s it’s time to dance\, splash\, and soak up the sun with our live DJ and a foam cannon! Join us for a blast of foam fun during Foam Zone every Friday at Big Kahuna’s Waterpark. \n\nLive DJ\nFoam Party\n\nBuy your tickets or reserve your Season Passes to enjoy events at Big Kahuna’s all summer long!
URL:https://bigkahunas.com/destin/event/foam-zone-friday-2/2026-08-14/
CATEGORIES:2026 Events
ATTACH;FMTTYPE=image/webp:https://bigkahunas.com/destin/wp-content/uploads/sites/2/2025/11/Waterpark-Summer-Event-Thumbnails-08.webp
END:VEVENT
BEGIN:VEVENT
DTSTART;TZID=America/Chicago:20260821T140000
DTEND;TZID=America/Chicago:20260821T170000
DTSTAMP:20260422T052920
CREATED:20251116T235755Z
LAST-MODIFIED:20260115T233256Z
UID:10002280-1787320800-1787331600@bigkahunas.com
SUMMARY:Foam Zone Friday
DESCRIPTION:Every Friday at Big Kahuna’s it’s time to dance\, splash\, and soak up the sun with our live DJ and a foam cannon! Join us for a blast of foam fun during Foam Zone every Friday at Big Kahuna’s Waterpark. \n\nLive DJ\nFoam Party\n\nBuy your tickets or reserve your Season Passes to enjoy events at Big Kahuna’s all summer long!
URL:https://bigkahunas.com/destin/event/foam-zone-friday-2/2026-08-21/
CATEGORIES:2026 Events
ATTACH;FMTTYPE=image/webp:https://bigkahunas.com/destin/wp-content/uploads/sites/2/2025/11/Waterpark-Summer-Event-Thumbnails-08.webp
END:VEVENT
BEGIN:VEVENT
DTSTART;TZID=America/Chicago:20260828T140000
DTEND;TZID=America/Chicago:20260828T170000
DTSTAMP:20260422T052920
CREATED:20251116T235755Z
LAST-MODIFIED:20260115T233256Z
UID:10002281-1787925600-1787936400@bigkahunas.com
SUMMARY:Foam Zone Friday
DESCRIPTION:Every Friday at Big Kahuna’s it’s time to dance\, splash\, and soak up the sun with our live DJ and a foam cannon! Join us for a blast of foam fun during Foam Zone every Friday at Big Kahuna’s Waterpark. \n\nLive DJ\nFoam Party\n\nBuy your tickets or reserve your Season Passes to enjoy events at Big Kahuna’s all summer long!
URL:https://bigkahunas.com/destin/event/foam-zone-friday-2/2026-08-28/
CATEGORIES:2026 Events
ATTACH;FMTTYPE=image/webp:https://bigkahunas.com/destin/wp-content/uploads/sites/2/2025/11/Waterpark-Summer-Event-Thumbnails-08.webp
END:VEVENT
BEGIN:VEVENT
DTSTART;TZID=America/Chicago:20260904T140000
DTEND;TZID=America/Chicago:20260904T170000
DTSTAMP:20260422T052920
CREATED:20251116T235755Z
LAST-MODIFIED:20260115T233256Z
UID:10002282-1788530400-1788541200@bigkahunas.com
SUMMARY:Foam Zone Friday
DESCRIPTION:Every Friday at Big Kahuna’s it’s time to dance\, splash\, and soak up the sun with our live DJ and a foam cannon! Join us for a blast of foam fun during Foam Zone every Friday at Big Kahuna’s Waterpark. \n\nLive DJ\nFoam Party\n\nBuy your tickets or reserve your Season Passes to enjoy events at Big Kahuna’s all summer long!
URL:https://bigkahunas.com/destin/event/foam-zone-friday-2/2026-09-04/
CATEGORIES:2026 Events
ATTACH;FMTTYPE=image/webp:https://bigkahunas.com/destin/wp-content/uploads/sites/2/2025/11/Waterpark-Summer-Event-Thumbnails-08.webp
END:VEVENT
END:VCALENDAR